BEGIN:VCALENDAR
VERSION:2.0
PRODID:-//SVP Hägglingen //NONSGML Events //EN
CALSCALE:GREGORIAN
X-WR-CALNAME:SVP Hägglingen
BEGIN:VEVENT
CREATED:20241118T141525Z
UID:1307
DTEND:20250513T000000
DTSTART:20250513T000000
DTSTAMP:20260419T230830Z
LOCATION:
DESCRIPTION:
SUMMARY:Fraktionsausflug
ORGANIZER:
URL;VALUE=URI:https://www.svp-haegglingen.ch/termine/fraktionsausflug/
TRANSP:OPAQUE
END:VEVENT
END:VCALENDAR
